BEGIN:VCALENDAR
VERSION:2.0
PRODID:-//Yoga Sadhana - ECPv6.15.20//NONSGML v1.0//EN
CALSCALE:GREGORIAN
METHOD:PUBLISH
X-ORIGINAL-URL:https://yogasadhana.sg
X-WR-CALDESC:Events for Yoga Sadhana
REFRESH-INTERVAL;VALUE=DURATION:PT1H
X-Robots-Tag:noindex
X-PUBLISHED-TTL:PT1H
BEGIN:VTIMEZONE
TZID:Asia/Singapore
BEGIN:STANDARD
TZOFFSETFROM:+0800
TZOFFSETTO:+0800
TZNAME:+08
DTSTART:20250101T000000
END:STANDARD
END:VTIMEZONE
BEGIN:VEVENT
DTSTART;TZID=Asia/Singapore:20260509T110000
DTEND;TZID=Asia/Singapore:20260510T130000
DTSTAMP:20260424T165342
CREATED:20251004T013703Z
LAST-MODIFIED:20260412T031446Z
UID:3347-1778324400-1778418000@yogasadhana.sg
SUMMARY:BACKBEND Workshop Led by Master Vishal
DESCRIPTION:
URL:https://yogasadhana.sg/event/backbend-workshop/
CATEGORIES:General Events
ATTACH;FMTTYPE=image/jpeg:https://yogasadhana.sg/wp-content/uploads/2025/10/WhatsApp-Image-2026-04-11-at-9.34.28-PM.jpeg
END:VEVENT
END:VCALENDAR